{
 "currentVersion": 11.1,
 "cimVersion": "3.1.0",
 "serviceDescription": "",
 "mapName": "EquityIndex",
 "description": "",
 "copyrightText": "",
 "supportsDynamicLayers": true,
 "layers": [
  {
   "id": 0,
   "name": "EquityIndex_Official",
   "parentLayerId": -1,
   "defaultVisibility": true,
   "subLayerIds": null,
   "minScale": 0,
   "maxScale": 0,
   "type": "Feature Layer",
   "geometryType": "esriGeometryPolygon",
   "supportsDynamicLegends": true
  }
 ],
 "tables": [],
 "spatialReference": {
  "wkt": "PROJCS[\"NAD_1983_Transverse_Mercator\",GEOGCS[\"GCS_North_American_1983\",DATUM[\"D_North_American_1983\",SPHEROID[\"GRS_1980\",6378137.0,298.257222101]],PRIMEM[\"Greenwich\",0.0],UNIT[\"Degree\",0.0174532925199433]],PROJECTION[\"Transverse_Mercator\"],PARAMETER[\"False_Easting\",2625138.996430666],PARAMETER[\"False_Northing\",0.0],PARAMETER[\"Central_Meridian\",-115.75],PARAMETER[\"Scale_Factor\",1.00011328],PARAMETER[\"Latitude_Of_Origin\",41.66666666666666],UNIT[\"Foot_US\",0.3048006096012192]]",
  "xyTolerance": 0.00328083333333333,
  "zTolerance": 0.001,
  "mTolerance": 0.001,
  "falseX": -15825500,
  "falseY": -47960400,
  "xyUnits": 3048.00609601219,
  "falseZ": -100000,
  "zUnits": 10000,
  "falseM": -100000,
  "mUnits": 10000
 },
 "singleFusedMapCache": true,
 "tileInfo": {
  "rows": 256,
  "cols": 256,
  "dpi": 96,
  "format": "PNG",
  "compressionQuality": 75,
  "origin": {
   "x": -15825500,
   "y": 2.955063995092942E12
  },
  "spatialReference": {
   "wkt": "PROJCS[\"NAD_1983_Transverse_Mercator\",GEOGCS[\"GCS_North_American_1983\",DATUM[\"D_North_American_1983\",SPHEROID[\"GRS_1980\",6378137.0,298.257222101]],PRIMEM[\"Greenwich\",0.0],UNIT[\"Degree\",0.0174532925199433]],PROJECTION[\"Transverse_Mercator\"],PARAMETER[\"False_Easting\",2625138.996430666],PARAMETER[\"False_Northing\",0.0],PARAMETER[\"Central_Meridian\",-115.75],PARAMETER[\"Scale_Factor\",1.00011328],PARAMETER[\"Latitude_Of_Origin\",41.66666666666666],UNIT[\"Foot_US\",0.3048006096012192]]",
   "xyTolerance": 0.00328083333333333,
   "zTolerance": 0.001,
   "mTolerance": 0.001,
   "falseX": -15825500,
   "falseY": -47960400,
   "xyUnits": 3048.00609601219,
   "falseZ": -100000,
   "zUnits": 10000,
   "falseM": -100000,
   "mUnits": 10000
  },
  "lods": [
   {
    "level": 0,
    "resolution": 868.0555555555555,
    "scale": 1000000
   },
   {
    "level": 1,
    "resolution": 434.02777777777777,
    "scale": 500000
   },
   {
    "level": 2,
    "resolution": 217.01388888888889,
    "scale": 250000
   },
   {
    "level": 3,
    "resolution": 108.50694444444444,
    "scale": 125000
   },
   {
    "level": 4,
    "resolution": 55.55555555555555,
    "scale": 64000
   }
  ]
 },
 "storageInfo": {
  "storageFormat": "esriMapCacheStorageModeCompactV2",
  "packetSize": 128
 },
 "initialExtent": {
  "xmin": 2195027.3347892743,
  "ymin": 596107.2549592769,
  "xmax": 2656608.998374751,
  "ymax": 740445.4950381229,
  "spatialReference": {
   "wkt": "PROJCS[\"NAD_1983_Transverse_Mercator\",GEOGCS[\"GCS_North_American_1983\",DATUM[\"D_North_American_1983\",SPHEROID[\"GRS_1980\",6378137.0,298.257222101]],PRIMEM[\"Greenwich\",0.0],UNIT[\"Degree\",0.0174532925199433]],PROJECTION[\"Transverse_Mercator\"],PARAMETER[\"False_Easting\",2625138.996430666],PARAMETER[\"False_Northing\",0.0],PARAMETER[\"Central_Meridian\",-115.75],PARAMETER[\"Scale_Factor\",1.00011328],PARAMETER[\"Latitude_Of_Origin\",41.66666666666666],UNIT[\"Foot_US\",0.3048006096012192]]",
   "xyTolerance": 0.00328083333333333,
   "zTolerance": 0.001,
   "mTolerance": 0.001,
   "falseX": -15825500,
   "falseY": -47960400,
   "xyUnits": 3048.00609601219,
   "falseZ": -100000,
   "zUnits": 10000,
   "falseM": -100000,
   "mUnits": 10000
  }
 },
 "fullExtent": {
  "xmin": 2286234.916549597,
  "ymin": 527321.0624217018,
  "xmax": 2565401.416614428,
  "ymax": 809231.6875756979,
  "spatialReference": {
   "wkt": "PROJCS[\"NAD_1983_Transverse_Mercator\",GEOGCS[\"GCS_North_American_1983\",DATUM[\"D_North_American_1983\",SPHEROID[\"GRS_1980\",6378137.0,298.257222101]],PRIMEM[\"Greenwich\",0.0],UNIT[\"Degree\",0.0174532925199433]],PROJECTION[\"Transverse_Mercator\"],PARAMETER[\"False_Easting\",2625138.996430666],PARAMETER[\"False_Northing\",0.0],PARAMETER[\"Central_Meridian\",-115.75],PARAMETER[\"Scale_Factor\",1.00011328],PARAMETER[\"Latitude_Of_Origin\",41.66666666666666],UNIT[\"Foot_US\",0.3048006096012192]]",
   "xyTolerance": 0.00328083333333333,
   "zTolerance": 0.001,
   "mTolerance": 0.001,
   "falseX": -15825500,
   "falseY": -47960400,
   "xyUnits": 3048.00609601219,
   "falseZ": -100000,
   "zUnits": 10000,
   "falseM": -100000,
   "mUnits": 10000
  }
 },
 "datesInUnknownTimezone": false,
 "minScale": 1153777.5765762455,
 "maxScale": 18027.774634003836,
 "units": "esriFeet",
 "supportedImageFormatTypes": "PNG32,PNG24,PNG,JPG,DIB,TIFF,EMF,PS,PDF,GIF,SVG,SVGZ,BMP",
 "documentInfo": {
  "Title": "Map3",
  "Author": "",
  "Comments": "",
  "Subject": "",
  "Category": "",
  "Version": "2.9.0",
  "AntialiasingMode": "Fast",
  "TextAntialiasingMode": "Force",
  "Keywords": ""
 },
 "capabilities": "Map,Query,Data",
 "supportedQueryFormats": "JSON, geoJSON, PBF",
 "hasVersionedData": true,
 "exportTilesAllowed": false,
 "referenceScale": 0.0,
 "supportsDatumTransformation": true,
 "archivingInfo": {
  "supportsHistoricMoment": false
 },
 "supportsClipping": true,
 "supportsSpatialFilter": true,
 "supportsTimeRelation": true,
 "supportsQueryDataElements": true,
 "mapUnits": {
  "uwkid": 9003
 },
 "maxRecordCount": 2000,
 "maxImageHeight": 4096,
 "maxImageWidth": 4096,
 "supportedExtensions": "FeatureServer",
 "resampling": false
}
